BEGIN:VCALENDAR
VERSION:2.0
PRODID:-//Wir.sind.Seershausen - ECPv6.15.18//NONSGML v1.0//EN
CALSCALE:GREGORIAN
METHOD:PUBLISH
X-ORIGINAL-URL:https://wir-sind-seershausen.de
X-WR-CALDESC:Veranstaltungen für Wir.sind.Seershausen
REFRESH-INTERVAL;VALUE=DURATION:PT1H
X-Robots-Tag:noindex
X-PUBLISHED-TTL:PT1H
BEGIN:VTIMEZONE
TZID:Europe/Berlin
BEGIN:DAYLIGHT
TZOFFSETFROM:+0100
TZOFFSETTO:+0200
TZNAME:CEST
DTSTART:20250330T010000
END:DAYLIGHT
BEGIN:STANDARD
TZOFFSETFROM:+0200
TZOFFSETTO:+0100
TZNAME:CET
DTSTART:20251026T010000
END:STANDARD
BEGIN:DAYLIGHT
TZOFFSETFROM:+0100
TZOFFSETTO:+0200
TZNAME:CEST
DTSTART:20260329T010000
END:DAYLIGHT
BEGIN:STANDARD
TZOFFSETFROM:+0200
TZOFFSETTO:+0100
TZNAME:CET
DTSTART:20261025T010000
END:STANDARD
BEGIN:DAYLIGHT
TZOFFSETFROM:+0100
TZOFFSETTO:+0200
TZNAME:CEST
DTSTART:20270328T010000
END:DAYLIGHT
BEGIN:STANDARD
TZOFFSETFROM:+0200
TZOFFSETTO:+0100
TZNAME:CET
DTSTART:20271031T010000
END:STANDARD
END:VTIMEZONE
BEGIN:VEVENT
DTSTART;TZID=Europe/Berlin:20260307T180000
DTEND;TZID=Europe/Berlin:20260307T210000
DTSTAMP:20260421T113657
CREATED:20251203T112340Z
LAST-MODIFIED:20251203T112340Z
UID:2110-1772906400-1772917200@wir-sind-seershausen.de
SUMMARY:Jahreshauptversammlung des Fussball Förderverein im TuS
DESCRIPTION:
URL:https://wir-sind-seershausen.de/veranstaltung/jahreshauptversammlung-des-fussball-foerderverein-im-tus/
CATEGORIES:Fussball-Förderverein
END:VEVENT
BEGIN:VEVENT
DTSTART;TZID=Europe/Berlin:20260310T143000
DTEND;TZID=Europe/Berlin:20260310T170000
DTSTAMP:20260421T113657
CREATED:20251202T090817Z
LAST-MODIFIED:20251203T114126Z
UID:2029-1773153000-1773162000@wir-sind-seershausen.de
SUMMARY:Spielenachmittag im DGH
DESCRIPTION:
URL:https://wir-sind-seershausen.de/veranstaltung/speilenachmittag-im-dgh/
CATEGORIES:DRK
END:VEVENT
BEGIN:VEVENT
DTSTART;TZID=Europe/Berlin:20260313T180000
DTEND;TZID=Europe/Berlin:20260313T200000
DTSTAMP:20260421T113657
CREATED:20260220T094408Z
LAST-MODIFIED:20260220T103246Z
UID:2336-1773424800-1773432000@wir-sind-seershausen.de
SUMMARY:Jahreshauptversammlung der MK Gorch Fock (intern)
DESCRIPTION:
URL:https://wir-sind-seershausen.de/veranstaltung/jahreshauptversammlung-der-mk-gorch-fock-intern/
CATEGORIES:Marinekameradschaft
END:VEVENT
BEGIN:VEVENT
DTSTART;TZID=Europe/Berlin:20260314T190000
DTEND;TZID=Europe/Berlin:20260314T210000
DTSTAMP:20260421T113657
CREATED:20251203T104912Z
LAST-MODIFIED:20260228T182623Z
UID:2092-1773514800-1773522000@wir-sind-seershausen.de
SUMMARY:Jahreshauptversammlung des TuS
DESCRIPTION:
URL:https://wir-sind-seershausen.de/veranstaltung/jahreshauptversammlung-des-tus/
LOCATION:Dorfgemeinschaftshaus Seershausen\, Rietzer Weg 3a\, Seershausen\, 38536\, Deutschland
CATEGORIES:TuS Seershausen/Ohof
ATTACH;FMTTYPE=image/png:https://s3.eu-central-2.wasabisys.com/wp-upload-seershausen/TuS-Seershausen-e1742454907852.png
END:VEVENT
BEGIN:VEVENT
DTSTART;TZID=Europe/Berlin:20260315T100000
DTEND;TZID=Europe/Berlin:20260315T130000
DTSTAMP:20260421T113657
CREATED:20251203T112418Z
LAST-MODIFIED:20251203T112418Z
UID:2113-1773568800-1773579600@wir-sind-seershausen.de
SUMMARY:Wandern
DESCRIPTION:
URL:https://wir-sind-seershausen.de/veranstaltung/wandern/
CATEGORIES:Dorfverein
END:VEVENT
BEGIN:VEVENT
DTSTART;TZID=Europe/Berlin:20260321T090000
DTEND;TZID=Europe/Berlin:20260321T120000
DTSTAMP:20260421T113657
CREATED:20251203T105059Z
LAST-MODIFIED:20260313T155918Z
UID:2094-1774083600-1774094400@wir-sind-seershausen.de
SUMMARY:Umwelttag in Seershausen
DESCRIPTION:
URL:https://wir-sind-seershausen.de/veranstaltung/umwelttag-in-seershausen/
LOCATION:An der Kapelle
CATEGORIES:ASV Seershausen
ATTACH;FMTTYPE=image/jpeg:https://s3.eu-central-2.wasabisys.com/wp-upload-seershausen/WhatsApp-Image-2026-03-12-at-08.51.26.jpeg
END:VEVENT
BEGIN:VEVENT
DTSTART;TZID=Europe/Berlin:20260321T100000
DTEND;TZID=Europe/Berlin:20260321T120000
DTSTAMP:20260421T113657
CREATED:20251203T110316Z
LAST-MODIFIED:20251203T110316Z
UID:2102-1774087200-1774094400@wir-sind-seershausen.de
SUMMARY:Obstbäume pflanzen
DESCRIPTION:
URL:https://wir-sind-seershausen.de/veranstaltung/obstbaeume-pflanzen-2/
LOCATION:Alter Friedhof Seershausen\, Alter Friedhof\, Seershausen\, 38536
CATEGORIES:Dorfverein
END:VEVENT
END:VCALENDAR