BEGIN:VCALENDAR
VERSION:2.0
PRODID:-//Wir.sind.Seershausen - ECPv6.15.18//NONSGML v1.0//EN
CALSCALE:GREGORIAN
METHOD:PUBLISH
X-ORIGINAL-URL:https://wir-sind-seershausen.de
X-WR-CALDESC:Veranstaltungen für Wir.sind.Seershausen
REFRESH-INTERVAL;VALUE=DURATION:PT1H
X-Robots-Tag:noindex
X-PUBLISHED-TTL:PT1H
BEGIN:VTIMEZONE
TZID:Europe/Berlin
BEGIN:DAYLIGHT
TZOFFSETFROM:+0100
TZOFFSETTO:+0200
TZNAME:CEST
DTSTART:20240331T010000
END:DAYLIGHT
BEGIN:STANDARD
TZOFFSETFROM:+0200
TZOFFSETTO:+0100
TZNAME:CET
DTSTART:20241027T010000
END:STANDARD
BEGIN:DAYLIGHT
TZOFFSETFROM:+0100
TZOFFSETTO:+0200
TZNAME:CEST
DTSTART:20250330T010000
END:DAYLIGHT
BEGIN:STANDARD
TZOFFSETFROM:+0200
TZOFFSETTO:+0100
TZNAME:CET
DTSTART:20251026T010000
END:STANDARD
BEGIN:DAYLIGHT
TZOFFSETFROM:+0100
TZOFFSETTO:+0200
TZNAME:CEST
DTSTART:20260329T010000
END:DAYLIGHT
BEGIN:STANDARD
TZOFFSETFROM:+0200
TZOFFSETTO:+0100
TZNAME:CET
DTSTART:20261025T010000
END:STANDARD
END:VTIMEZONE
BEGIN:VEVENT
DTSTART;TZID=Europe/Berlin:20250907T100000
DTEND;TZID=Europe/Berlin:20250907T180000
DTSTAMP:20260421T193247
CREATED:20250114T084328Z
LAST-MODIFIED:20250114T084328Z
UID:1202-1757239200-1757268000@wir-sind-seershausen.de
SUMMARY:Preisschießen
DESCRIPTION:
URL:https://wir-sind-seershausen.de/veranstaltung/preisschiessen/
CATEGORIES:Schützengesellschaft
END:VEVENT
BEGIN:VEVENT
DTSTART;TZID=Europe/Berlin:20250912T160000
DTEND;TZID=Europe/Berlin:20250912T180000
DTSTAMP:20260421T193247
CREATED:20250114T082012Z
LAST-MODIFIED:20250823T095547Z
UID:1168-1757692800-1757700000@wir-sind-seershausen.de
SUMMARY:Apfelernte mit den Obstbaumfreunden
DESCRIPTION:
URL:https://wir-sind-seershausen.de/veranstaltung/apfelrente-mit-den-obstbaumfreunden/
LOCATION:Verbindungsweg nördlich von Seershausen\, Verbindungsweg
CATEGORIES:Dorfverein
ATTACH;FMTTYPE=image/jpeg:https://s3.eu-central-2.wasabisys.com/wp-upload-seershausen/Bluete-e1755942933666.jpg
END:VEVENT
BEGIN:VEVENT
DTSTART;TZID=Europe/Berlin:20250914T100000
DTEND;TZID=Europe/Berlin:20250914T140000
DTSTAMP:20260421T193247
CREATED:20250114T082503Z
LAST-MODIFIED:20250602T061103Z
UID:1174-1757844000-1757858400@wir-sind-seershausen.de
SUMMARY:Wandern - Rund um den Wohlenberg
DESCRIPTION:
URL:https://wir-sind-seershausen.de/veranstaltung/wandern-3/
CATEGORIES:Dorfverein
ATTACH;FMTTYPE=image/png:https://s3.eu-central-2.wasabisys.com/wp-upload-seershausen/Quadratisches-Logo-Wandergruppe.png
END:VEVENT
END:VCALENDAR