BEGIN:VCALENDAR
VERSION:2.0
PRODID:-//Wir.sind.Seershausen - ECPv6.15.18//NONSGML v1.0//EN
CALSCALE:GREGORIAN
METHOD:PUBLISH
X-WR-CALNAME:Wir.sind.Seershausen
X-ORIGINAL-URL:https://wir-sind-seershausen.de
X-WR-CALDESC:Veranstaltungen für Wir.sind.Seershausen
REFRESH-INTERVAL;VALUE=DURATION:PT1H
X-Robots-Tag:noindex
X-PUBLISHED-TTL:PT1H
BEGIN:VTIMEZONE
TZID:Europe/Berlin
BEGIN:DAYLIGHT
TZOFFSETFROM:+0100
TZOFFSETTO:+0200
TZNAME:CEST
DTSTART:20240331T010000
END:DAYLIGHT
BEGIN:STANDARD
TZOFFSETFROM:+0200
TZOFFSETTO:+0100
TZNAME:CET
DTSTART:20241027T010000
END:STANDARD
BEGIN:DAYLIGHT
TZOFFSETFROM:+0100
TZOFFSETTO:+0200
TZNAME:CEST
DTSTART:20250330T010000
END:DAYLIGHT
BEGIN:STANDARD
TZOFFSETFROM:+0200
TZOFFSETTO:+0100
TZNAME:CET
DTSTART:20251026T010000
END:STANDARD
BEGIN:DAYLIGHT
TZOFFSETFROM:+0100
TZOFFSETTO:+0200
TZNAME:CEST
DTSTART:20260329T010000
END:DAYLIGHT
BEGIN:STANDARD
TZOFFSETFROM:+0200
TZOFFSETTO:+0100
TZNAME:CET
DTSTART:20261025T010000
END:STANDARD
END:VTIMEZONE
BEGIN:VEVENT
DTSTART;VALUE=DATE:20250712
DTEND;VALUE=DATE:20250714
DTSTAMP:20260421T220719
CREATED:20240611T101930Z
LAST-MODIFIED:20250617T070229Z
UID:620-1752278400-1752451199@wir-sind-seershausen.de
SUMMARY:Königsschießen
DESCRIPTION:
URL:https://wir-sind-seershausen.de/veranstaltung/koenigsschiessen/
LOCATION:Schützenheim Seershausen\, Rietzer Weg 5\, Meinersen\, 38536\, Deutschland
CATEGORIES:Schützengesellschaft Seershausen
ATTACH;FMTTYPE=image/png:https://s3.eu-central-2.wasabisys.com/wp-upload-seershausen/IMG-20241017-WA0002-removebg-preview.png
ORGANIZER;CN="Sch%C3%BCtzengesellschaft Seershausen":MAILTO:sg-seershausen@web.de
END:VEVENT
BEGIN:VEVENT
DTSTART;VALUE=DATE:20250718
DTEND;VALUE=DATE:20250721
DTSTAMP:20260421T220719
CREATED:20240611T102024Z
LAST-MODIFIED:20250617T064437Z
UID:623-1752796800-1753055999@wir-sind-seershausen.de
SUMMARY:Schützenfest
DESCRIPTION:
URL:https://wir-sind-seershausen.de/veranstaltung/schuetzenfest/
LOCATION:Dorfgemeinschaftshaus Seershausen\, Rietzer Weg 3a\, Seershausen\, 38536\, Deutschland
CATEGORIES:Schützengesellschaft Seershausen
ATTACH;FMTTYPE=image/png:https://s3.eu-central-2.wasabisys.com/wp-upload-seershausen/IMG-20241017-WA0002-removebg-preview.png
ORGANIZER;CN="Sch%C3%BCtzengesellschaft Seershausen":MAILTO:sg-seershausen@web.de
END:VEVENT
BEGIN:VEVENT
DTSTART;TZID=Europe/Berlin:20250731T140000
DTEND;TZID=Europe/Berlin:20250731T160000
DTSTAMP:20260421T220719
CREATED:20250716T105836Z
LAST-MODIFIED:20250725T204947Z
UID:1754-1753970400-1753977600@wir-sind-seershausen.de
SUMMARY:Ferienaktion für Kinder
DESCRIPTION:
URL:https://wir-sind-seershausen.de/veranstaltung/ferienaktion-fuer-kinder/
LOCATION:Dorfgemeinschaftshaus Seershausen\, Rietzer Weg 3a\, Seershausen\, 38536\, Deutschland
CATEGORIES:Dorfverein
ATTACH;FMTTYPE=image/jpeg:https://s3.eu-central-2.wasabisys.com/wp-upload-seershausen/PHOTO-2025-07-15-22-05-35-e1752664037867.jpg
END:VEVENT
END:VCALENDAR