BEGIN:VCALENDAR
VERSION:2.0
PRODID:-//Wir.sind.Seershausen - ECPv6.15.18//NONSGML v1.0//EN
CALSCALE:GREGORIAN
METHOD:PUBLISH
X-ORIGINAL-URL:https://wir-sind-seershausen.de
X-WR-CALDESC:Veranstaltungen für Wir.sind.Seershausen
REFRESH-INTERVAL;VALUE=DURATION:PT1H
X-Robots-Tag:noindex
X-PUBLISHED-TTL:PT1H
BEGIN:VTIMEZONE
TZID:Europe/Berlin
BEGIN:DAYLIGHT
TZOFFSETFROM:+0100
TZOFFSETTO:+0200
TZNAME:CEST
DTSTART:20240331T010000
END:DAYLIGHT
BEGIN:STANDARD
TZOFFSETFROM:+0200
TZOFFSETTO:+0100
TZNAME:CET
DTSTART:20241027T010000
END:STANDARD
BEGIN:DAYLIGHT
TZOFFSETFROM:+0100
TZOFFSETTO:+0200
TZNAME:CEST
DTSTART:20250330T010000
END:DAYLIGHT
BEGIN:STANDARD
TZOFFSETFROM:+0200
TZOFFSETTO:+0100
TZNAME:CET
DTSTART:20251026T010000
END:STANDARD
BEGIN:DAYLIGHT
TZOFFSETFROM:+0100
TZOFFSETTO:+0200
TZNAME:CEST
DTSTART:20260329T010000
END:DAYLIGHT
BEGIN:STANDARD
TZOFFSETFROM:+0200
TZOFFSETTO:+0100
TZNAME:CET
DTSTART:20261025T010000
END:STANDARD
END:VTIMEZONE
BEGIN:VEVENT
DTSTART;TZID=Europe/Berlin:20250501T110000
DTEND;TZID=Europe/Berlin:20250501T180000
DTSTAMP:20260422T010408
CREATED:20241105T064227Z
LAST-MODIFIED:20250426T085337Z
UID:962-1746097200-1746122400@wir-sind-seershausen.de
SUMMARY:Frühlingsfest am DGH
DESCRIPTION:
URL:https://wir-sind-seershausen.de/veranstaltung/fruehlingsfest/
LOCATION:Dorfgemeinschaftshaus Seershausen\, Rietzer Weg 3a\, Seershausen\, 38536\, Deutschland
CATEGORIES:Dorfverein
ATTACH;FMTTYPE=image/jpeg:https://s3.eu-central-2.wasabisys.com/wp-upload-seershausen/Fruehlingsfest-2025-Ablauf.jpg
END:VEVENT
BEGIN:VEVENT
DTSTART;TZID=Europe/Berlin:20250510T190000
DTEND;TZID=Europe/Berlin:20250510T233000
DTSTAMP:20260422T010408
CREATED:20250327T075527Z
LAST-MODIFIED:20250327T075527Z
UID:1562-1746903600-1746919800@wir-sind-seershausen.de
SUMMARY:Best@ge Blues & Rock-Cover... too good to die young
DESCRIPTION:
URL:https://wir-sind-seershausen.de/veranstaltung/bestge-blues-rock-cover-too-good-to-die-young/
LOCATION:WUNDERQUELLE – Alte Tischlerei\, Peiner Straße 11\, Seershausen\, 38536
CATEGORIES:Allgemein,Kultur
ATTACH;FMTTYPE=image/jpeg:https://s3.eu-central-2.wasabisys.com/wp-upload-seershausen/2025-05-10_wunderEVENT_Flyer-A5.jpg
END:VEVENT
BEGIN:VEVENT
DTSTART;TZID=Europe/Berlin:20250528T160000
DTEND;TZID=Europe/Berlin:20250528T200000
DTSTAMP:20260422T010408
CREATED:20250114T083325Z
LAST-MODIFIED:20250114T083325Z
UID:1186-1748448000-1748462400@wir-sind-seershausen.de
SUMMARY:Blutspenden beim DRK
DESCRIPTION:
URL:https://wir-sind-seershausen.de/veranstaltung/blutspenden-beim-drk/
LOCATION:Dorfgemeinschaftshaus Seershausen\, Rietzer Weg 3a\, Seershausen\, 38536\, Deutschland
END:VEVENT
END:VCALENDAR