BEGIN:VCALENDAR
VERSION:2.0
PRODID:-//Wir.sind.Seershausen - ECPv6.15.18//NONSGML v1.0//EN
CALSCALE:GREGORIAN
METHOD:PUBLISH
X-WR-CALNAME:Wir.sind.Seershausen
X-ORIGINAL-URL:https://wir-sind-seershausen.de
X-WR-CALDESC:Veranstaltungen für Wir.sind.Seershausen
REFRESH-INTERVAL;VALUE=DURATION:PT1H
X-Robots-Tag:noindex
X-PUBLISHED-TTL:PT1H
BEGIN:VTIMEZONE
TZID:Europe/Berlin
BEGIN:DAYLIGHT
TZOFFSETFROM:+0100
TZOFFSETTO:+0200
TZNAME:CEST
DTSTART:20240331T010000
END:DAYLIGHT
BEGIN:STANDARD
TZOFFSETFROM:+0200
TZOFFSETTO:+0100
TZNAME:CET
DTSTART:20241027T010000
END:STANDARD
BEGIN:DAYLIGHT
TZOFFSETFROM:+0100
TZOFFSETTO:+0200
TZNAME:CEST
DTSTART:20250330T010000
END:DAYLIGHT
BEGIN:STANDARD
TZOFFSETFROM:+0200
TZOFFSETTO:+0100
TZNAME:CET
DTSTART:20251026T010000
END:STANDARD
BEGIN:DAYLIGHT
TZOFFSETFROM:+0100
TZOFFSETTO:+0200
TZNAME:CEST
DTSTART:20260329T010000
END:DAYLIGHT
BEGIN:STANDARD
TZOFFSETFROM:+0200
TZOFFSETTO:+0100
TZNAME:CET
DTSTART:20261025T010000
END:STANDARD
END:VTIMEZONE
BEGIN:VEVENT
DTSTART;TZID=Europe/Berlin:20250403T160000
DTEND;TZID=Europe/Berlin:20250403T180000
DTSTAMP:20260422T024006
CREATED:20250327T074636Z
LAST-MODIFIED:20250327T074641Z
UID:1545-1743696000-1743703200@wir-sind-seershausen.de
SUMMARY:Kindertage in der Päser Kirche
DESCRIPTION: 
URL:https://wir-sind-seershausen.de/veranstaltung/kindertage-in-der-paeser-kirche/
LOCATION:St. Marien Kirche Päse\, Zum Sundern 8a\, Meinersen\, 38536\, Germany
ATTACH;FMTTYPE=image/jpeg:https://s3.eu-central-2.wasabisys.com/wp-upload-seershausen/Kirche-Webseite-2.jpeg
END:VEVENT
BEGIN:VEVENT
DTSTART;TZID=Europe/Berlin:20250404T160000
DTEND;TZID=Europe/Berlin:20250404T180000
DTSTAMP:20260422T024006
CREATED:20250327T080039Z
LAST-MODIFIED:20250327T080039Z
UID:1565-1743782400-1743789600@wir-sind-seershausen.de
SUMMARY:Kindertage in der Päser Kirche
DESCRIPTION:
URL:https://wir-sind-seershausen.de/veranstaltung/kindertage-in-der-paeser-kirche-2/
LOCATION:St. Marien Kirche Päse\, Zum Sundern 8a\, Meinersen\, 38536\, Germany
ATTACH;FMTTYPE=image/jpeg:https://s3.eu-central-2.wasabisys.com/wp-upload-seershausen/Kirche-Webseite-2.jpeg
END:VEVENT
BEGIN:VEVENT
DTSTART;TZID=Europe/Berlin:20250406T100000
DTEND;TZID=Europe/Berlin:20250406T120000
DTSTAMP:20260422T024006
CREATED:20250327T074908Z
LAST-MODIFIED:20250327T074908Z
UID:1551-1743933600-1743940800@wir-sind-seershausen.de
SUMMARY:Familiengottesdienst in der Päser Kirche
DESCRIPTION:
URL:https://wir-sind-seershausen.de/veranstaltung/familiengottesdienst-in-der-paeser-kirche/
LOCATION:St. Marien Kirche Päse\, Zum Sundern 8a\, Meinersen\, 38536\, Germany
ATTACH;FMTTYPE=image/jpeg:https://s3.eu-central-2.wasabisys.com/wp-upload-seershausen/Kirche-Webseite-2.jpeg
END:VEVENT
BEGIN:VEVENT
DTSTART;TZID=Europe/Berlin:20250409T160000
DTEND;TZID=Europe/Berlin:20250409T200000
DTSTAMP:20260422T024006
CREATED:20250311T182442Z
LAST-MODIFIED:20250311T182750Z
UID:1438-1744214400-1744228800@wir-sind-seershausen.de
SUMMARY:Lebensrettende Maßnahmen
DESCRIPTION:In Kürze werden wir am DGH ein AED (Defibrillator) bekommen. Dieser wird öffentlich ausgehängt.\nZur Einweisung in das Gerät und weitere Themen zur eigenen Sicherheit\, bieten wir am 09.04. einen Vortrag vom DRK an. Anmeldungen wären hilfreich aber sind nicht zwingend erforderlich.
URL:https://wir-sind-seershausen.de/veranstaltung/lebensrettenden-massnahmen/
LOCATION:Dorfgemeinschaftshaus Seershausen\, Rietzer Weg 3a\, Seershausen\, 38536\, Deutschland
CATEGORIES:Dorfverein
ATTACH;FMTTYPE=image/png:https://s3.eu-central-2.wasabisys.com/wp-upload-seershausen/Defi-Hinweisschild.png
END:VEVENT
BEGIN:VEVENT
DTSTART;TZID=Europe/Berlin:20250412T190000
DTEND;TZID=Europe/Berlin:20250412T233000
DTSTAMP:20260422T024006
CREATED:20250327T075430Z
LAST-MODIFIED:20250327T075430Z
UID:1557-1744484400-1744500600@wir-sind-seershausen.de
SUMMARY:Living Peppers A tribute to Red Hot Chili Peppers
DESCRIPTION:
URL:https://wir-sind-seershausen.de/veranstaltung/living-peppers-a-tribute-to-red-hot-chili-peppers/
LOCATION:WUNDERQUELLE – Alte Tischlerei\, Peiner Straße 11\, Seershausen\, 38536
CATEGORIES:Allgemein,Kultur
ATTACH;FMTTYPE=image/jpeg:https://s3.eu-central-2.wasabisys.com/wp-upload-seershausen/2025-04-12_wunderEVENT_Flyer-A5.jpg
END:VEVENT
BEGIN:VEVENT
DTSTART;TZID=Europe/Berlin:20250417T190000
DTEND;TZID=Europe/Berlin:20250417T235900
DTSTAMP:20260422T024006
CREATED:20250327T075120Z
LAST-MODIFIED:20250327T075120Z
UID:1553-1744916400-1744934340@wir-sind-seershausen.de
SUMMARY:Osterfeuer Seershausen
DESCRIPTION:
URL:https://wir-sind-seershausen.de/veranstaltung/osterfeuer-seershausen-2/
LOCATION:Dorfgemeinschaftshaus Seershausen\, Rietzer Weg 3a\, Seershausen\, 38536\, Deutschland
CATEGORIES:Allgemein,Freiwillige Feuerwehr,Kultur
ATTACH;FMTTYPE=image/jpeg:https://s3.eu-central-2.wasabisys.com/wp-upload-seershausen/1000086841.jpg
END:VEVENT
BEGIN:VEVENT
DTSTART;TZID=Europe/Berlin:20250426T140000
DTEND;TZID=Europe/Berlin:20250426T170000
DTSTAMP:20260422T024006
CREATED:20250416T164755Z
LAST-MODIFIED:20250416T165039Z
UID:1612-1745676000-1745686800@wir-sind-seershausen.de
SUMMARY:Pflanzentauschtag
DESCRIPTION:Wir freuen uns auf den Seershäuser Pflanzentauschtag am Samstag nach Ostern!\nam 26.04. von 14 – 17 Uhr\nHeilpflanzengarten\, Peiner Str. 18\nHier können Stauden\, Stecklinge\, Saaten oder auch Gehölze nach Herzenslust getauscht oder verschenkt werden. Auch selbstgezogenes\nGemüse ist sehr willkommen\nHobbygärtner und Pflanzenliebhaber sind eingeladen\, für einen regen Austausch von und über die grünen Schönheiten!
URL:https://wir-sind-seershausen.de/veranstaltung/pflanzentauschtag/
LOCATION:Heilpflanzengarten\, Peiner Straße 18\, Seershausen\, 38536
END:VEVENT
END:VCALENDAR