BEGIN:VCALENDAR
VERSION:2.0
PRODID:-//Wir.sind.Seershausen - ECPv6.15.18//NONSGML v1.0//EN
CALSCALE:GREGORIAN
METHOD:PUBLISH
X-ORIGINAL-URL:https://wir-sind-seershausen.de
X-WR-CALDESC:Veranstaltungen für Wir.sind.Seershausen
REFRESH-INTERVAL;VALUE=DURATION:PT1H
X-Robots-Tag:noindex
X-PUBLISHED-TTL:PT1H
BEGIN:VTIMEZONE
TZID:Europe/Berlin
BEGIN:DAYLIGHT
TZOFFSETFROM:+0100
TZOFFSETTO:+0200
TZNAME:CEST
DTSTART:20230326T010000
END:DAYLIGHT
BEGIN:STANDARD
TZOFFSETFROM:+0200
TZOFFSETTO:+0100
TZNAME:CET
DTSTART:20231029T010000
END:STANDARD
BEGIN:DAYLIGHT
TZOFFSETFROM:+0100
TZOFFSETTO:+0200
TZNAME:CEST
DTSTART:20240331T010000
END:DAYLIGHT
BEGIN:STANDARD
TZOFFSETFROM:+0200
TZOFFSETTO:+0100
TZNAME:CET
DTSTART:20241027T010000
END:STANDARD
BEGIN:DAYLIGHT
TZOFFSETFROM:+0100
TZOFFSETTO:+0200
TZNAME:CEST
DTSTART:20250330T010000
END:DAYLIGHT
BEGIN:STANDARD
TZOFFSETFROM:+0200
TZOFFSETTO:+0100
TZNAME:CET
DTSTART:20251026T010000
END:STANDARD
END:VTIMEZONE
BEGIN:VEVENT
DTSTART;VALUE=DATE:20240909
DTEND;VALUE=DATE:20240910
DTSTAMP:20260422T132216
CREATED:20240902T161429Z
LAST-MODIFIED:20240911T102417Z
UID:763-1725840000-1725926399@wir-sind-seershausen.de
SUMMARY:Beginn Stadtradeln 09.09 bis 29.09
DESCRIPTION:PDF zum StadtradelnSeid dabei .. Radeln tut gut..! \n********************************** \nHallo Seershausen! \nVom 9. bis 29. September\, also rund um das Jubiläum 50 Jahre Samtgemeinde Meinersen\, soll das Fahrrad als gesundes\, umweltfreundliches und günstiges Verkehrsmittel mit drei Aktionen im Blickpunkt stehen.\nBitte lest dazu den anliegenden Flyer. \n1. Kilometersammelwettbewerb\nAls Teil des bundesweiten „Stadtradelns“ findet vom 9. bis 29. September ein spielerischer Kilometersammelwettbewerb statt\, an dem wir uns als Ortschaft Seershausen intensiv und mit viel Spaß beteiligen wollen.\nWir starten als Gruppe innerhalb der Samtgemeinde unter dem Gruppennamen „Wir sind Seershausen“ und wollen in den drei Wochen so viele Kilometer wie möglich zusammen radeln.\nDafür solltet ihr euch für die Gruppe „Wir sind Seershausen“ im Portal www.stadtradeln.de registrieren/anmelden. Einfacher geht es noch über den folgenden Link: https://www.stadtradeln.de/index.php?id=171&L=0&team_preselect=83490. \nNach der Registrierung könnt ihr ab dem 9.September eure gefahrenen für unsere Gruppe „Wir sind Seershausen“ erfassen. \nWir wollen auch hier zeigen\, dass wir als „Wir sind Seershausen“ ein starkes Team sind!  Dabei zählt jeder gefahrene Kilometer. \nZusätzlich werden wir geführte Touren in den Abendstunden anbieten. Details dazu folgen in Kürze. \n2. Sternfahrt zum Rathaus\nAuch in diesem Rahmen bewegen sich am 21.September eine Vielzahl von Tourengruppen in einer Sternfahrt zum Jubiläumsfest 50 Jahre Samtgemeinde und zum Markt der Fahrradmöglichkeiten.\nDie Gruppe „Wir sind Seershausen“ startet an diesem Tag um 12:15 Uhr beim Landhaus in Seershausen und fährt über Volkse und Dalldorf zum Rathaus Meinersen (Ankunft 13:45). \n3. Markt der Fahrradmöglichkeiten\nMarkt der Fahrradmöglichkeiten am 21. September: Neben vielen anderen Attraktionen zum Jubiläumswochenende „50 Jahre Samtgemeinde Meinersen“ rund ums Rathaus findet von 14:00 bis 18:00 Uhr ein Markt der Fahrradmöglichkeiten mit zahlreichen Aktionen und Ausstellern statt. Für nähere Infos bitte die beigefügte PDF-Datei öffnen. \nPDF: Dorfradeln-Onepager-WEB \nAuf große Beteiligung am Dorfradeln hoffen die Seershäuser Organisatoren\nKarsten Seffer (Dorfverein) Tel. 01776535247\nAndreas Rieken (Modellflugverein) Tel. 01772418585\nDirk Pollmeier (Donnerstagsradler) Tel. 01724757039\nInge Heuer (Landfrauen) Tel. 015752179097 \nPDF zum Stadtradeln
URL:https://wir-sind-seershausen.de/veranstaltung/stadtradeln-09-09-bis-21-09/
CATEGORIES:Allgemein,Sport
ATTACH;FMTTYPE=image/jpeg:https://s3.eu-central-2.wasabisys.com/wp-upload-seershausen/289712341_105483045545851_3158340837198409910_n.jpg
END:VEVENT
BEGIN:VEVENT
DTSTART;VALUE=DATE:20240920
DTEND;VALUE=DATE:20240923
DTSTAMP:20260422T132216
CREATED:20240605T135020Z
LAST-MODIFIED:20240904T163007Z
UID:574-1726790400-1727049599@wir-sind-seershausen.de
SUMMARY:50 Jahre Samtgemeinde Meinersen
DESCRIPTION:
URL:https://wir-sind-seershausen.de/veranstaltung/50-jahre-samtgemeinde-meinersen/
ATTACH;FMTTYPE=image/png:https://s3.eu-central-2.wasabisys.com/wp-upload-seershausen/4019_949_1_g.png
END:VEVENT
BEGIN:VEVENT
DTSTART;TZID=Europe/Berlin:20240921T121500
DTEND;TZID=Europe/Berlin:20240921T121500
DTSTAMP:20260422T132216
CREATED:20240918T073200Z
LAST-MODIFIED:20240918T162951Z
UID:829-1726920900-1726920900@wir-sind-seershausen.de
SUMMARY:Sternfahrt
DESCRIPTION:
URL:https://wir-sind-seershausen.de/veranstaltung/sternfahrt/
CATEGORIES:Allgemein,Dorfverein
ATTACH;FMTTYPE=image/jpeg:https://s3.eu-central-2.wasabisys.com/wp-upload-seershausen/Sternfahrt-2-1-scaled.jpg
END:VEVENT
BEGIN:VEVENT
DTSTART;VALUE=DATE:20240929
DTEND;VALUE=DATE:20240930
DTSTAMP:20260422T132216
CREATED:20240601T094326Z
LAST-MODIFIED:20240829T205125Z
UID:564-1727568000-1727654399@wir-sind-seershausen.de
SUMMARY:Wandertag 29.09
DESCRIPTION:29.09.2024; Treff um 9:30 am DGH \nZiel wird das Ringelah-Gebiet
URL:https://wir-sind-seershausen.de/veranstaltung/wandertag-29-09/
CATEGORIES:Allgemein,Kultur,Sport
ATTACH;FMTTYPE=image/png:https://s3.eu-central-2.wasabisys.com/wp-upload-seershausen/DorfvereinLogoGruen.png
END:VEVENT
BEGIN:VEVENT
DTSTART;VALUE=DATE:20240929
DTEND;VALUE=DATE:20240930
DTSTAMP:20260422T132216
CREATED:20240911T102530Z
LAST-MODIFIED:20240911T102530Z
UID:827-1727568000-1727654399@wir-sind-seershausen.de
SUMMARY:Ende Stadtradeln 09.09 bis 29.09
DESCRIPTION:
URL:https://wir-sind-seershausen.de/veranstaltung/ende-stadtradeln-09-09-bis-29-09/
CATEGORIES:Allgemein,Sport
END:VEVENT
END:VCALENDAR