BEGIN:VCALENDAR
VERSION:2.0
PRODID:-//Wir.sind.Seershausen - ECPv6.15.18//NONSGML v1.0//EN
CALSCALE:GREGORIAN
METHOD:PUBLISH
X-ORIGINAL-URL:https://wir-sind-seershausen.de
X-WR-CALDESC:Veranstaltungen für Wir.sind.Seershausen
REFRESH-INTERVAL;VALUE=DURATION:PT1H
X-Robots-Tag:noindex
X-PUBLISHED-TTL:PT1H
BEGIN:VTIMEZONE
TZID:Europe/Berlin
BEGIN:DAYLIGHT
TZOFFSETFROM:+0100
TZOFFSETTO:+0200
TZNAME:CEST
DTSTART:20230326T010000
END:DAYLIGHT
BEGIN:STANDARD
TZOFFSETFROM:+0200
TZOFFSETTO:+0100
TZNAME:CET
DTSTART:20231029T010000
END:STANDARD
BEGIN:DAYLIGHT
TZOFFSETFROM:+0100
TZOFFSETTO:+0200
TZNAME:CEST
DTSTART:20240331T010000
END:DAYLIGHT
BEGIN:STANDARD
TZOFFSETFROM:+0200
TZOFFSETTO:+0100
TZNAME:CET
DTSTART:20241027T010000
END:STANDARD
BEGIN:DAYLIGHT
TZOFFSETFROM:+0100
TZOFFSETTO:+0200
TZNAME:CEST
DTSTART:20250330T010000
END:DAYLIGHT
BEGIN:STANDARD
TZOFFSETFROM:+0200
TZOFFSETTO:+0100
TZNAME:CET
DTSTART:20251026T010000
END:STANDARD
END:VTIMEZONE
BEGIN:VEVENT
DTSTART;VALUE=DATE:20240810
DTEND;VALUE=DATE:20240811
DTSTAMP:20260422T144636
CREATED:20240605T134801Z
LAST-MODIFIED:20240702T114922Z
UID:570-1723248000-1723334399@wir-sind-seershausen.de
SUMMARY:Rock upp´n Dorpe
DESCRIPTION:http://www.kulturverein-meinersen.reservix.de/events
URL:https://wir-sind-seershausen.de/veranstaltung/rock-uppn-dorpe/
LOCATION:Dorfgemeinschaftshaus Seershausen\, Rietzer Weg 3a\, Seershausen\, 38536\, Deutschland
ATTACH;FMTTYPE=image/jpeg:https://s3.eu-central-2.wasabisys.com/wp-upload-seershausen/rockupndorpe2024.jpg
END:VEVENT
BEGIN:VEVENT
DTSTART;VALUE=DATE:20240825
DTEND;VALUE=DATE:20240826
DTSTAMP:20260422T144636
CREATED:20240601T094253Z
LAST-MODIFIED:20240812T152123Z
UID:562-1724544000-1724630399@wir-sind-seershausen.de
SUMMARY:Wandertag 25.08
DESCRIPTION:Hallo liebe Wanderfreunde Seershausen\,\n\n\nwie bereits bei der letzten Wanderung im März 2024 mitgeteilt\, findet die kommende Wanderung am \n25.08.2024 statt. Treffpunkt DGH Seershausen um 09:30 Uhr. \nDiesmal werden wir mit dem Auto Richtung Betzhorn „Heiliger Hain“ starten. \nDort werden wir eine Erlebniswanderung vom Parpkplatz „Heiliger Hain“ an das Gebiet Heiliger Hain starten\, weiterführend in das Gebiet Teichgut bzw. Weißenberge. \nDiesmal wird es keinen gemütlichen Abschluss im DGH Seershausen geben. Stattdessen werden wir auf der Strecke ein Wanderpicknick in Selbstversorgung machen – jede/jeder also den Eigenbedarf bitte selbst mitbringen! \nFür alle die direkt zum Parkplatz “Heiliger Hain“ anreisen\, dieser liegt an der Verbindungsstraße zwischen K7 und Betzhorn/Wahrenholz\, \nist der Treffpunkt dort um 10:00 Uhr. \nBei Anmeldung die eigene Anfahrt für die bessere Planung bitte angeben. \nAnmeldungen bitte an Roman per mail an roman.koch.24@gmail.com oder per SMS an 0173 974 4117; kein Whats-App!!! \nLiebe Grüsse \nEuer Orga-Wander-Team
URL:https://wir-sind-seershausen.de/veranstaltung/wandertag-25-08/
CATEGORIES:Allgemein,Kultur,Sport
ATTACH;FMTTYPE=image/jpeg:https://s3.eu-central-2.wasabisys.com/wp-upload-seershausen/Bild.jpeg
END:VEVENT
BEGIN:VEVENT
DTSTART;TZID=Europe/Berlin:20240831T110000
DTEND;TZID=Europe/Berlin:20240831T150000
DTSTAMP:20260422T144636
CREATED:20240812T151347Z
LAST-MODIFIED:20240812T151347Z
UID:728-1725102000-1725116400@wir-sind-seershausen.de
SUMMARY:Oker-Piraten-Party
DESCRIPTION:Der Dorfverein lädt am 31.08. ab 11 Uhr am Dorfgemeinschaftshaus zu einem Kinderfest in Seershausen ein. \nIn diesem Jahr folgen wir dem Motto „Die Oker-Piraten-Party“. Es gibt eine Schatzsandkiste\, viele Bastel- und Spielecken\, eine Piratendisco und natürlich die große Hüpfburg. Über die Mittagszeit gibt es Köstlichkeiten vom Grill und aus der Fritteuse. Darüber hinaus gibt es Kaffee und Kuchen. \n\nDie Veranstaltung wird durch viele Seershäuser Vereine unterstützt . An dieser Stelle schon einmal recht herzlichen Dank!
URL:https://wir-sind-seershausen.de/veranstaltung/oker-piraten-party/
LOCATION:Dorfgemeinschaftshaus Seershausen\, Rietzer Weg 3a\, Seershausen\, 38536\, Deutschland
CATEGORIES:Allgemein,Dorfverein
ATTACH;FMTTYPE=image/jpeg:https://s3.eu-central-2.wasabisys.com/wp-upload-seershausen/Okerpiratenparty-Fluss-20_FINAL-scaled.jpg
END:VEVENT
END:VCALENDAR