BEGIN:VCALENDAR
VERSION:2.0
PRODID:-//Wir.sind.Seershausen - ECPv6.15.18//NONSGML v1.0//EN
CALSCALE:GREGORIAN
METHOD:PUBLISH
X-WR-CALNAME:Wir.sind.Seershausen
X-ORIGINAL-URL:https://wir-sind-seershausen.de
X-WR-CALDESC:Veranstaltungen für Wir.sind.Seershausen
REFRESH-INTERVAL;VALUE=DURATION:PT1H
X-Robots-Tag:noindex
X-PUBLISHED-TTL:PT1H
BEGIN:VTIMEZONE
TZID:Europe/Berlin
BEGIN:DAYLIGHT
TZOFFSETFROM:+0100
TZOFFSETTO:+0200
TZNAME:CEST
DTSTART:20250330T010000
END:DAYLIGHT
BEGIN:STANDARD
TZOFFSETFROM:+0200
TZOFFSETTO:+0100
TZNAME:CET
DTSTART:20251026T010000
END:STANDARD
BEGIN:DAYLIGHT
TZOFFSETFROM:+0100
TZOFFSETTO:+0200
TZNAME:CEST
DTSTART:20260329T010000
END:DAYLIGHT
BEGIN:STANDARD
TZOFFSETFROM:+0200
TZOFFSETTO:+0100
TZNAME:CET
DTSTART:20261025T010000
END:STANDARD
BEGIN:DAYLIGHT
TZOFFSETFROM:+0100
TZOFFSETTO:+0200
TZNAME:CEST
DTSTART:20270328T010000
END:DAYLIGHT
BEGIN:STANDARD
TZOFFSETFROM:+0200
TZOFFSETTO:+0100
TZNAME:CET
DTSTART:20271031T010000
END:STANDARD
END:VTIMEZONE
BEGIN:VEVENT
DTSTART;TZID=Europe/Berlin:20260221T100000
DTEND;TZID=Europe/Berlin:20260221T130000
DTSTAMP:20260421T135716
CREATED:20251202T155521Z
LAST-MODIFIED:20251202T155521Z
UID:2073-1771668000-1771678800@wir-sind-seershausen.de
SUMMARY:Obstbaumschnitt
DESCRIPTION:
URL:https://wir-sind-seershausen.de/veranstaltung/obstbaumschnitt/
LOCATION:Alter Friedhof Seershausen\, Alter Friedhof\, Seershausen\, 38536
CATEGORIES:Dorfverein
END:VEVENT
BEGIN:VEVENT
DTSTART;TZID=Europe/Berlin:20260221T180000
DTEND;TZID=Europe/Berlin:20260221T210000
DTSTAMP:20260421T135716
CREATED:20251202T155707Z
LAST-MODIFIED:20260111T183609Z
UID:2075-1771696800-1771707600@wir-sind-seershausen.de
SUMMARY:JHV mit anschl. JHV des Fördervereins der FFW
DESCRIPTION:Einladung zur Jahreshauptversammlung der FF Seershausen \n Am 21. Februar 2026 um 18:00 Uhr findet die JHV im Dorfgemeinschaftshaus Seershausen\, Rietzer Weg 3a statt. \nTagesordnung:  \n\nEröffnung und Begrüßung\nFeststellung der Beschlussfähigkeit und Verlesen der Tagesordnung\nGedenken der verstorbenen Kameraden\nGenehmigung des Protokolls der Jahreshauptversammlung 2025\nBerichte:\n\nOrtsbrandmeister\nGruppenführer 1.-Gruppe der Einsatzabteilung\nGruppenführer 2.-Gruppe der Einsatzabteilung\nKinderfeuerwehrwart\n\n\nBestätigung:\n\nGerätewart\nstellvertretender Gerätewart\n\n\nEhrungen und Beförderungen\nAufnahme neuer Mitglieder\nAnträge und Mitteilungen\nGrußworte der Gäste\n\nAnträge sind schriftlich bis spätestens eine Woche vor der Versammlung beim Ortsbrandmeister einzureichen. Das Protokoll der Jahreshauptversammlung 2025 hängt seit dem 01.01.2026 im Schulungsraum zur Ansicht aus. \nIm Anschluss findet die Mitgliederversammlung des Feuerwehrförderverein\nSeershausen e.V. statt \nFreiwillige Feuerwehr Seershausen\nMark-Andre Ragwitz\nOrtsbrandmeister \n ***********************************  \nEinladung zur Jahreshauptversammlung vom Feuerwehrförderverein Seershausen e.V. \n Sehr geehrte Mitglieder des Feuerwehrfördervereins Seershausen e.V.\, \nam 21. Februar 2026 findet ab 18:00 Uhr\, im Anschluss an die Jahreshauptversammlung der Freiwilligen Feuerwehr Seershausen\, die Mitgliederversammlung des Feuerwehrfördervereins Seershausen e.V. im Dorfgemeinschaftshaus\, Rietzer Weg 3a\, Seershausen\, statt. \nZu dieser Mitgliederversammlung möchten wir Sie herzlich einladen. \nDas Protokoll der letzten Versammlung hängt seit dem 01.01.2026 öffentlich im Schaukasten am Feuerwehrhaus zur Ansicht aus. \nTagesordnung des Feuerwehrfördervereins Seershausen e.V.: \n\nEröffnung und Begrüßung\nFeststellung der Beschlussfähigkeit und Verlesen der Tagesordnung\nGenehmigung des Protokolls der Jahreshauptversammlung 2025\nJahresbericht des 1. Vorsitzenden\nKassenbericht\nBericht der Kassenprüfer\nEntlastung des Vorstandes und Wahl des Kassenprüfers\nAnträge und Mitteilungen\n\nAnträge sind schriftlich bis spätestens eine Woche vor der Versammlung beim\n1. Vorsitzenden des Fördervereins einzureichen. \nMatthias Graßhoff\n1. Vorsitzender\nFeuerwehrförderverein Seershausen e.V. \nDer Vorstand
URL:https://wir-sind-seershausen.de/veranstaltung/jhv-mit-anschl-jhv-des-foerdervereins-der-ffw/
LOCATION:Dorfgemeinschaftshaus Seershausen\, Rietzer Weg 3a\, Seershausen\, 38536\, Deutschland
CATEGORIES:Freiwillige Feuerwehr
END:VEVENT
END:VCALENDAR