BEGIN:VCALENDAR
VERSION:2.0
PRODID:-//Wir.sind.Seershausen - ECPv6.15.18//NONSGML v1.0//EN
CALSCALE:GREGORIAN
METHOD:PUBLISH
X-WR-CALNAME:Wir.sind.Seershausen
X-ORIGINAL-URL:https://wir-sind-seershausen.de
X-WR-CALDESC:Veranstaltungen für Wir.sind.Seershausen
REFRESH-INTERVAL;VALUE=DURATION:PT1H
X-Robots-Tag:noindex
X-PUBLISHED-TTL:PT1H
BEGIN:VTIMEZONE
TZID:Europe/Berlin
BEGIN:DAYLIGHT
TZOFFSETFROM:+0100
TZOFFSETTO:+0200
TZNAME:CEST
DTSTART:20240331T010000
END:DAYLIGHT
BEGIN:STANDARD
TZOFFSETFROM:+0200
TZOFFSETTO:+0100
TZNAME:CET
DTSTART:20241027T010000
END:STANDARD
BEGIN:DAYLIGHT
TZOFFSETFROM:+0100
TZOFFSETTO:+0200
TZNAME:CEST
DTSTART:20250330T010000
END:DAYLIGHT
BEGIN:STANDARD
TZOFFSETFROM:+0200
TZOFFSETTO:+0100
TZNAME:CET
DTSTART:20251026T010000
END:STANDARD
BEGIN:DAYLIGHT
TZOFFSETFROM:+0100
TZOFFSETTO:+0200
TZNAME:CEST
DTSTART:20260329T010000
END:DAYLIGHT
BEGIN:STANDARD
TZOFFSETFROM:+0200
TZOFFSETTO:+0100
TZNAME:CET
DTSTART:20261025T010000
END:STANDARD
END:VTIMEZONE
BEGIN:VEVENT
DTSTART;TZID=Europe/Berlin:20251207T170000
DTEND;TZID=Europe/Berlin:20251207T190000
DTSTAMP:20260421T164353
CREATED:20251119T082821Z
LAST-MODIFIED:20251119T083201Z
UID:1962-1765126800-1765134000@wir-sind-seershausen.de
SUMMARY:Adventskonzert in der Päser Kirche
DESCRIPTION:Der MGV Seershausen lädt zum Adventskonzert ein \nAuch in diesem Jahr veranstaltet der Männer-Gesang-Verein Seershausen von 1888 e.V. wieder sein traditionelles Adventskonzert und lädt dazu alle Interessierten am Sonntag\, dem 7. Dezember 2025\, um 17 Uhr in die St.-Marien-Kirche in Päse herzlich ein. \nNeben dem MGV Seershausen wirken auch der „Gymi-Leif-Chor“ des Sibylla-Merian-Gymnasiums Meinersen sowie der Posaunenchor Seershausen mit. \nMit einer stimmungsvollen Auswahl an Liedern und Kompositionen möchten die Mitwirkenden das Publikum auf die bevorstehende Advents- und Weihnachtszeit einstimmen und freuen sich auf zahlreiche Gäste. \nDer Eintritt ist frei\, Spenden sind herzlich willkommen. \nMit freundlichen Sangesgrüßen Michael Hoske (1. Vorsitzender) \nFlyer-MGV-Adventskonzert-2025.pdf
URL:https://wir-sind-seershausen.de/veranstaltung/adventskonzert-in-der-paeser-kirche/
CATEGORIES:MGV Seershausen
ATTACH;FMTTYPE=image/png:https://s3.eu-central-2.wasabisys.com/wp-upload-seershausen/MGV_Beitragsbild.png
END:VEVENT
END:VCALENDAR