BEGIN:VCALENDAR
VERSION:2.0
PRODID:-//Wir.sind.Seershausen - ECPv6.15.18//NONSGML v1.0//EN
CALSCALE:GREGORIAN
METHOD:PUBLISH
X-WR-CALNAME:Wir.sind.Seershausen
X-ORIGINAL-URL:https://wir-sind-seershausen.de
X-WR-CALDESC:Veranstaltungen für Wir.sind.Seershausen
REFRESH-INTERVAL;VALUE=DURATION:PT1H
X-Robots-Tag:noindex
X-PUBLISHED-TTL:PT1H
BEGIN:VTIMEZONE
TZID:Europe/Berlin
BEGIN:DAYLIGHT
TZOFFSETFROM:+0100
TZOFFSETTO:+0200
TZNAME:CEST
DTSTART:20240331T010000
END:DAYLIGHT
BEGIN:STANDARD
TZOFFSETFROM:+0200
TZOFFSETTO:+0100
TZNAME:CET
DTSTART:20241027T010000
END:STANDARD
BEGIN:DAYLIGHT
TZOFFSETFROM:+0100
TZOFFSETTO:+0200
TZNAME:CEST
DTSTART:20250330T010000
END:DAYLIGHT
BEGIN:STANDARD
TZOFFSETFROM:+0200
TZOFFSETTO:+0100
TZNAME:CET
DTSTART:20251026T010000
END:STANDARD
BEGIN:DAYLIGHT
TZOFFSETFROM:+0100
TZOFFSETTO:+0200
TZNAME:CEST
DTSTART:20260329T010000
END:DAYLIGHT
BEGIN:STANDARD
TZOFFSETFROM:+0200
TZOFFSETTO:+0100
TZNAME:CET
DTSTART:20261025T010000
END:STANDARD
END:VTIMEZONE
BEGIN:VEVENT
DTSTART;TZID=Europe/Berlin:20251129T173000
DTEND;TZID=Europe/Berlin:20251129T220000
DTSTAMP:20260421T180707
CREATED:20251102T162910Z
LAST-MODIFIED:20251102T182933Z
UID:1890-1764437400-1764453600@wir-sind-seershausen.de
SUMMARY:Kleiner Weihnachtsmarkt im alten Dorf
DESCRIPTION:Am Samstag den 29.11. ist es wieder soweit! \nDie Kerzen Leuchten am Baum\, der Glühwein dampft im Becher und die leckeren Würste liegen auf dem Grill. Zur Einstimmung auf die Adventszeit lädt der Anglersportverein Seershausen mit Unterstützung der Freiwilligen Feuerwehr und dem Dorfverein am Samstag\, den 29. November 2025 ab 17:30 unter den Eichen zwischen der historischen Kapelle und dem alten Feuerwehrhaus gegenüber ganz herzlich Jung und Alt aus Nah und Fern ein. \nMittlerweile ist es ein guter und vor allem ein sehr beliebter Brauch\, sich am Vorabend des ersten Advents im Dorfkern von Seershausen zu treffen und einige Stunden miteinander zu verbringen. Der Anglersportverein Seershausen hat neben seinem Vereinsheim einen Weihnachtsbaum errichtet und mit Lichterketten geschmückt. Der Posaunenchor Seershausen wird uns mit wunderschönen Liedern in Weihnachtsstimmung bringen und unser Gemeindebürgermeister Thomas Spanuth wird es sich nicht nehmen lassen\, ein paar Worte an die Anwesenden zu richten. \nDer Vorstand und die Mitglieder des Anglersportvereins bewirten die zahlreichen Gäste mit Kinderpunsch\, Glühwein\, Bier und Kaltgetränken\, sowie mit Waffeln\, Pommes und Bratwürsten. Es entsteht für einige Stunden ein richtiger kleiner Weihnachtsmarkt. Die von KSM gestellten Feuertonnen und der Glühwein\, verleihen bei eventuell eisigen Temperaturen eine angenehme Atmosphäre. Der Anglersportverein Seershausen freut sich auf viele gut gelaunte Gäste und bittet darum\, sich diesen Termin zu merken und ihn weiterzusagen. \n 
URL:https://wir-sind-seershausen.de/veranstaltung/kleiner-weihnachtsmarkt-im-alten-dorf/
LOCATION:An der Kapelle
CATEGORIES:ASV Seershausen
ATTACH;FMTTYPE=image/png:https://s3.eu-central-2.wasabisys.com/wp-upload-seershausen/5362-2025-12-0-00000000000042545595-0-1761834867.png
END:VEVENT
END:VCALENDAR