BEGIN:VCALENDAR
VERSION:2.0
PRODID:-//Wir.sind.Seershausen - ECPv6.15.18//NONSGML v1.0//EN
CALSCALE:GREGORIAN
METHOD:PUBLISH
X-ORIGINAL-URL:https://wir-sind-seershausen.de
X-WR-CALDESC:Veranstaltungen für Wir.sind.Seershausen
REFRESH-INTERVAL;VALUE=DURATION:PT1H
X-Robots-Tag:noindex
X-PUBLISHED-TTL:PT1H
BEGIN:VTIMEZONE
TZID:Europe/Berlin
BEGIN:DAYLIGHT
TZOFFSETFROM:+0100
TZOFFSETTO:+0200
TZNAME:CEST
DTSTART:20240331T010000
END:DAYLIGHT
BEGIN:STANDARD
TZOFFSETFROM:+0200
TZOFFSETTO:+0100
TZNAME:CET
DTSTART:20241027T010000
END:STANDARD
BEGIN:DAYLIGHT
TZOFFSETFROM:+0100
TZOFFSETTO:+0200
TZNAME:CEST
DTSTART:20250330T010000
END:DAYLIGHT
BEGIN:STANDARD
TZOFFSETFROM:+0200
TZOFFSETTO:+0100
TZNAME:CET
DTSTART:20251026T010000
END:STANDARD
BEGIN:DAYLIGHT
TZOFFSETFROM:+0100
TZOFFSETTO:+0200
TZNAME:CEST
DTSTART:20260329T010000
END:DAYLIGHT
BEGIN:STANDARD
TZOFFSETFROM:+0200
TZOFFSETTO:+0100
TZNAME:CET
DTSTART:20261025T010000
END:STANDARD
END:VTIMEZONE
BEGIN:VEVENT
DTSTART;TZID=Europe/Berlin:20250403T160000
DTEND;TZID=Europe/Berlin:20250403T180000
DTSTAMP:20260422T042445
CREATED:20250327T074636Z
LAST-MODIFIED:20250327T074641Z
UID:1545-1743696000-1743703200@wir-sind-seershausen.de
SUMMARY:Kindertage in der Päser Kirche
DESCRIPTION: 
URL:https://wir-sind-seershausen.de/veranstaltung/kindertage-in-der-paeser-kirche/
LOCATION:St. Marien Kirche Päse\, Zum Sundern 8a\, Meinersen\, 38536\, Germany
ATTACH;FMTTYPE=image/jpeg:https://s3.eu-central-2.wasabisys.com/wp-upload-seershausen/Kirche-Webseite-2.jpeg
END:VEVENT
END:VCALENDAR