BEGIN:VCALENDAR
VERSION:2.0
PRODID:-//Wir.sind.Seershausen - ECPv6.15.18//NONSGML v1.0//EN
CALSCALE:GREGORIAN
METHOD:PUBLISH
X-WR-CALNAME:Wir.sind.Seershausen
X-ORIGINAL-URL:https://wir-sind-seershausen.de
X-WR-CALDESC:Veranstaltungen für Wir.sind.Seershausen
REFRESH-INTERVAL;VALUE=DURATION:PT1H
X-Robots-Tag:noindex
X-PUBLISHED-TTL:PT1H
BEGIN:VTIMEZONE
TZID:Europe/Berlin
BEGIN:DAYLIGHT
TZOFFSETFROM:+0100
TZOFFSETTO:+0200
TZNAME:CEST
DTSTART:20230326T010000
END:DAYLIGHT
BEGIN:STANDARD
TZOFFSETFROM:+0200
TZOFFSETTO:+0100
TZNAME:CET
DTSTART:20231029T010000
END:STANDARD
BEGIN:DAYLIGHT
TZOFFSETFROM:+0100
TZOFFSETTO:+0200
TZNAME:CEST
DTSTART:20240331T010000
END:DAYLIGHT
BEGIN:STANDARD
TZOFFSETFROM:+0200
TZOFFSETTO:+0100
TZNAME:CET
DTSTART:20241027T010000
END:STANDARD
BEGIN:DAYLIGHT
TZOFFSETFROM:+0100
TZOFFSETTO:+0200
TZNAME:CEST
DTSTART:20250330T010000
END:DAYLIGHT
BEGIN:STANDARD
TZOFFSETFROM:+0200
TZOFFSETTO:+0100
TZNAME:CET
DTSTART:20251026T010000
END:STANDARD
END:VTIMEZONE
BEGIN:VEVENT
DTSTART;TZID=Europe/Berlin:20241214T143000
DTEND;TZID=Europe/Berlin:20241214T173000
DTSTAMP:20260422T103706
CREATED:20241111T192242Z
LAST-MODIFIED:20241206T151757Z
UID:988-1734186600-1734197400@wir-sind-seershausen.de
SUMMARY:Adventssingen mit dem MGV in Gifhorn am Ceka-Brunnen
DESCRIPTION:
URL:https://wir-sind-seershausen.de/veranstaltung/adventssingen-mit-dem-mgv-in-gifhorn-am-ceka-brunnen/
LOCATION:Ceka Brunnen\, Herzog-Franz-Straße 6A\, 38518 Gifhorn\, Gifnorn
CATEGORIES:Kultur,MGV Seershausen
ATTACH;FMTTYPE=image/png:https://s3.eu-central-2.wasabisys.com/wp-upload-seershausen/MGV_Beitragsbild.png
END:VEVENT
END:VCALENDAR