BEGIN:VCALENDAR
VERSION:2.0
PRODID:-//Wir.sind.Seershausen - ECPv6.15.18//NONSGML v1.0//EN
CALSCALE:GREGORIAN
METHOD:PUBLISH
X-WR-CALNAME:Wir.sind.Seershausen
X-ORIGINAL-URL:https://wir-sind-seershausen.de
X-WR-CALDESC:Veranstaltungen für Wir.sind.Seershausen
REFRESH-INTERVAL;VALUE=DURATION:PT1H
X-Robots-Tag:noindex
X-PUBLISHED-TTL:PT1H
BEGIN:VTIMEZONE
TZID:Europe/Berlin
BEGIN:DAYLIGHT
TZOFFSETFROM:+0100
TZOFFSETTO:+0200
TZNAME:CEST
DTSTART:20230326T010000
END:DAYLIGHT
BEGIN:STANDARD
TZOFFSETFROM:+0200
TZOFFSETTO:+0100
TZNAME:CET
DTSTART:20231029T010000
END:STANDARD
BEGIN:DAYLIGHT
TZOFFSETFROM:+0100
TZOFFSETTO:+0200
TZNAME:CEST
DTSTART:20240331T010000
END:DAYLIGHT
BEGIN:STANDARD
TZOFFSETFROM:+0200
TZOFFSETTO:+0100
TZNAME:CET
DTSTART:20241027T010000
END:STANDARD
BEGIN:DAYLIGHT
TZOFFSETFROM:+0100
TZOFFSETTO:+0200
TZNAME:CEST
DTSTART:20250330T010000
END:DAYLIGHT
BEGIN:STANDARD
TZOFFSETFROM:+0200
TZOFFSETTO:+0100
TZNAME:CET
DTSTART:20251026T010000
END:STANDARD
END:VTIMEZONE
BEGIN:VEVENT
DTSTART;TZID=Europe/Berlin:20240413T190000
DTEND;TZID=Europe/Berlin:20240413T230000
DTSTAMP:20260422T221345
CREATED:20240327T091843Z
LAST-MODIFIED:20240327T091843Z
UID:412-1713034800-1713049200@wir-sind-seershausen.de
SUMMARY:Mitgliederversammlung des TuS Seershausen/Ohof e. V.
DESCRIPTION:Am 13. April 2024 findet um 19:00 Uhr im\nDorfgemeinschaftshaus Seershausen\ndie Mitgliederversammlung des TuS Seershausen/Ohof e. V. statt. \n  \nEinladung_Mitgliederversammlung_2024_TuS_Seershausen_Ohof
URL:https://wir-sind-seershausen.de/veranstaltung/mitgliederversammlung-des-tus-seershausen-ohof-e-v/
LOCATION:Dorfgemeinschaftshaus Seershausen\, Rietzer Weg 3a\, Seershausen\, 38536\, Deutschland
CATEGORIES:Allgemein,Sport,TuS Seershausen/Ohof
ATTACH;FMTTYPE=image/png:https://s3.eu-central-2.wasabisys.com/wp-upload-seershausen/TuS-Seershausen-e1742454907852.png
ORGANIZER;CN="TuS Seershausen/Ohof":MAILTO:info@tus-seershausen-ohof.de
END:VEVENT
END:VCALENDAR