BEGIN:VCALENDAR
VERSION:2.0
PRODID:-//Wir.sind.Seershausen - ECPv6.15.18//NONSGML v1.0//EN
CALSCALE:GREGORIAN
METHOD:PUBLISH
X-WR-CALNAME:Wir.sind.Seershausen
X-ORIGINAL-URL:https://wir-sind-seershausen.de
X-WR-CALDESC:Veranstaltungen für Wir.sind.Seershausen
REFRESH-INTERVAL;VALUE=DURATION:PT1H
X-Robots-Tag:noindex
X-PUBLISHED-TTL:PT1H
BEGIN:VTIMEZONE
TZID:Europe/Berlin
BEGIN:DAYLIGHT
TZOFFSETFROM:+0100
TZOFFSETTO:+0200
TZNAME:CEST
DTSTART:20230326T010000
END:DAYLIGHT
BEGIN:STANDARD
TZOFFSETFROM:+0200
TZOFFSETTO:+0100
TZNAME:CET
DTSTART:20231029T010000
END:STANDARD
BEGIN:DAYLIGHT
TZOFFSETFROM:+0100
TZOFFSETTO:+0200
TZNAME:CEST
DTSTART:20240331T010000
END:DAYLIGHT
BEGIN:STANDARD
TZOFFSETFROM:+0200
TZOFFSETTO:+0100
TZNAME:CET
DTSTART:20241027T010000
END:STANDARD
BEGIN:DAYLIGHT
TZOFFSETFROM:+0100
TZOFFSETTO:+0200
TZNAME:CEST
DTSTART:20250330T010000
END:DAYLIGHT
BEGIN:STANDARD
TZOFFSETFROM:+0200
TZOFFSETTO:+0100
TZNAME:CET
DTSTART:20251026T010000
END:STANDARD
END:VTIMEZONE
BEGIN:VEVENT
DTSTART;TZID=Europe/Berlin:20240406T140000
DTEND;TZID=Europe/Berlin:20240406T170000
DTSTAMP:20260422T221307
CREATED:20240317T134347Z
LAST-MODIFIED:20240318T083538Z
UID:392-1712412000-1712422800@wir-sind-seershausen.de
SUMMARY:Seershäuser Pflanzentauschtag
DESCRIPTION:Sie sind herzlich eingeladen \nzum \nPflanzentauschtag 2024 \nam Samstag\, den 06.04. von 14:00 – 17:00 Uhr \nim Heilpflanzengarten \nin der Peiner Str. 18 \nWir freuen uns auf den Seershäuser Pflanzentauschtag! Hier können Stauden\, Stecklinge\, Saaten oder auch Gehölze nach Herzenslust getauscht oder verschenkt werden. Auch selbstgezogenes Gemüse ist sehr willkommen. Hobbygärtner und Pflanzenliebhaber sind eingeladen\, für einen regen Austausch von und über die grünen Schönheiten!
URL:https://wir-sind-seershausen.de/veranstaltung/seershaeuser-pflanzentauschtag/
LOCATION:Heilpflanzengarten\, Peiner Straße 18\, Seershausen\, 38536
CATEGORIES:Allgemein,Kultur
ATTACH;FMTTYPE=image/jpeg:https://s3.eu-central-2.wasabisys.com/wp-upload-seershausen/Blume-e1710750733806.jpg
END:VEVENT
END:VCALENDAR