BEGIN:VCALENDAR
VERSION:2.0
PRODID:-//Wir.sind.Seershausen - ECPv6.15.18//NONSGML v1.0//EN
CALSCALE:GREGORIAN
METHOD:PUBLISH
X-ORIGINAL-URL:https://wir-sind-seershausen.de
X-WR-CALDESC:Veranstaltungen für Wir.sind.Seershausen
REFRESH-INTERVAL;VALUE=DURATION:PT1H
X-Robots-Tag:noindex
X-PUBLISHED-TTL:PT1H
BEGIN:VTIMEZONE
TZID:Europe/Berlin
BEGIN:DAYLIGHT
TZOFFSETFROM:+0100
TZOFFSETTO:+0200
TZNAME:CEST
DTSTART:20230326T010000
END:DAYLIGHT
BEGIN:STANDARD
TZOFFSETFROM:+0200
TZOFFSETTO:+0100
TZNAME:CET
DTSTART:20231029T010000
END:STANDARD
BEGIN:DAYLIGHT
TZOFFSETFROM:+0100
TZOFFSETTO:+0200
TZNAME:CEST
DTSTART:20240331T010000
END:DAYLIGHT
BEGIN:STANDARD
TZOFFSETFROM:+0200
TZOFFSETTO:+0100
TZNAME:CET
DTSTART:20241027T010000
END:STANDARD
BEGIN:DAYLIGHT
TZOFFSETFROM:+0100
TZOFFSETTO:+0200
TZNAME:CEST
DTSTART:20250330T010000
END:DAYLIGHT
BEGIN:STANDARD
TZOFFSETFROM:+0200
TZOFFSETTO:+0100
TZNAME:CET
DTSTART:20251026T010000
END:STANDARD
END:VTIMEZONE
BEGIN:VEVENT
DTSTART;TZID=Europe/Berlin:20240328T180000
DTEND;TZID=Europe/Berlin:20240328T235900
DTSTAMP:20260422T234149
CREATED:20240301T191317Z
LAST-MODIFIED:20240301T193334Z
UID:314-1711648800-1711670340@wir-sind-seershausen.de
SUMMARY:Osterfeuer Seershausen
DESCRIPTION:Osterfeuer 2024 in Seershausen \nEntzündet wird wie jedes Jahr zum Einbruch der Dunkelheit. \nDas Osterfeuer wird auf dem Platz hinter dem DGH Seershausen stattfinden. \nFür das leibliche Wohl ist wie immer gesorgt \n  \nWir freuen uns gemeinsam mit euch den Gründonnerstag zu verbringen \n 
URL:https://wir-sind-seershausen.de/veranstaltung/osterfeuer-seershausen/
LOCATION:Dorfgemeinschaftshaus Seershausen\, Rietzer Weg 3a\, Seershausen\, 38536\, Deutschland
CATEGORIES:Allgemein,Freiwillige Feuerwehr,Kultur
ATTACH;FMTTYPE=image/png:https://s3.eu-central-2.wasabisys.com/wp-upload-seershausen/Screenshot_20240301-203034-e1710750809782.png
END:VEVENT
END:VCALENDAR