BEGIN:VCALENDAR
VERSION:2.0
PRODID:-//Wir.sind.Seershausen - ECPv6.15.18//NONSGML v1.0//EN
CALSCALE:GREGORIAN
METHOD:PUBLISH
X-WR-CALNAME:Wir.sind.Seershausen
X-ORIGINAL-URL:https://wir-sind-seershausen.de
X-WR-CALDESC:Veranstaltungen für Wir.sind.Seershausen
REFRESH-INTERVAL;VALUE=DURATION:PT1H
X-Robots-Tag:noindex
X-PUBLISHED-TTL:PT1H
BEGIN:VTIMEZONE
TZID:Europe/Berlin
BEGIN:DAYLIGHT
TZOFFSETFROM:+0100
TZOFFSETTO:+0200
TZNAME:CEST
DTSTART:20230326T010000
END:DAYLIGHT
BEGIN:STANDARD
TZOFFSETFROM:+0200
TZOFFSETTO:+0100
TZNAME:CET
DTSTART:20231029T010000
END:STANDARD
BEGIN:DAYLIGHT
TZOFFSETFROM:+0100
TZOFFSETTO:+0200
TZNAME:CEST
DTSTART:20240331T010000
END:DAYLIGHT
BEGIN:STANDARD
TZOFFSETFROM:+0200
TZOFFSETTO:+0100
TZNAME:CET
DTSTART:20241027T010000
END:STANDARD
BEGIN:DAYLIGHT
TZOFFSETFROM:+0100
TZOFFSETTO:+0200
TZNAME:CEST
DTSTART:20250330T010000
END:DAYLIGHT
BEGIN:STANDARD
TZOFFSETFROM:+0200
TZOFFSETTO:+0100
TZNAME:CET
DTSTART:20251026T010000
END:STANDARD
END:VTIMEZONE
BEGIN:VEVENT
DTSTART;TZID=Europe/Berlin:20240324T100000
DTEND;TZID=Europe/Berlin:20240324T180000
DTSTAMP:20260422T234007
CREATED:20240310T190055Z
LAST-MODIFIED:20240310T190055Z
UID:336-1711274400-1711303200@wir-sind-seershausen.de
SUMMARY:Museumskeller in Seershausen öffnet am 24. März seine Pforten
DESCRIPTION:Museumskeller in Seershausen öffnet am 24. März seine Pforten \nMit weit über 400 Ausstellungsstücken beheimatet das Kellermuseum\nvon Christa und Horst Bruns in Seershausen eine umfangreiche\nSammlung von historischen Gerätschaften für die Arbeit in Haushalt und Garten\nsowie der Landwirtschaft.\nVon 800 Jahre vor Christi alten Pfeilspitzen\, über eine 100 Jahre alte\nPlattenspieluhr\, Handwagen der Firma Miele\, alten Landkarten\,\nMopeds\, bis hin zu einer Kücheneinrichtung sowie einer Schulbank sind\nalle Objekte des Alltags aus füherer Zeit hier zu bestaunen.\nZu vielen der Gegenstände aus Seershausen und Umgebung\nkönnen Christa und Horst auch noch kurze Geschichten oder Begebenheiten\nberichten. \nAm So.\, 24.03.2024 sind alle Interessierten herzlich eingeladen\,\nsich mal wieder in die gute\, alte Zeit zurück zu versetzen.\nDas Museum im Osterberg 16 in Seershausen ist dann von 10 – 18 Uhr geöffnet\nund freut sich auf alle Besucher. Der Eintritt ist frei. \n        
URL:https://wir-sind-seershausen.de/veranstaltung/museumskeller-in-seershausen-oeffnet-am-24-maerz-seine-pforten/
END:VEVENT
END:VCALENDAR