BEGIN:VCALENDAR
VERSION:2.0
PRODID:-//Wir.sind.Seershausen - ECPv6.15.18//NONSGML v1.0//EN
CALSCALE:GREGORIAN
METHOD:PUBLISH
X-ORIGINAL-URL:https://wir-sind-seershausen.de
X-WR-CALDESC:Veranstaltungen für Wir.sind.Seershausen
REFRESH-INTERVAL;VALUE=DURATION:PT1H
X-Robots-Tag:noindex
X-PUBLISHED-TTL:PT1H
BEGIN:VTIMEZONE
TZID:Europe/Berlin
BEGIN:DAYLIGHT
TZOFFSETFROM:+0100
TZOFFSETTO:+0200
TZNAME:CEST
DTSTART:20230326T010000
END:DAYLIGHT
BEGIN:STANDARD
TZOFFSETFROM:+0200
TZOFFSETTO:+0100
TZNAME:CET
DTSTART:20231029T010000
END:STANDARD
BEGIN:DAYLIGHT
TZOFFSETFROM:+0100
TZOFFSETTO:+0200
TZNAME:CEST
DTSTART:20240331T010000
END:DAYLIGHT
BEGIN:STANDARD
TZOFFSETFROM:+0200
TZOFFSETTO:+0100
TZNAME:CET
DTSTART:20241027T010000
END:STANDARD
BEGIN:DAYLIGHT
TZOFFSETFROM:+0100
TZOFFSETTO:+0200
TZNAME:CEST
DTSTART:20250330T010000
END:DAYLIGHT
BEGIN:STANDARD
TZOFFSETFROM:+0200
TZOFFSETTO:+0100
TZNAME:CET
DTSTART:20251026T010000
END:STANDARD
END:VTIMEZONE
BEGIN:VEVENT
DTSTART;TZID=Europe/Berlin:20240317T093000
DTEND;TZID=Europe/Berlin:20240317T160000
DTSTAMP:20260422T234137
CREATED:20240315T182201Z
LAST-MODIFIED:20240315T182201Z
UID:379-1710667800-1710691200@wir-sind-seershausen.de
SUMMARY:Wanderung der Wanderfreunde
DESCRIPTION:Etwas von den Wanderfreunden \n  \nWie bereits bei der letzten Wanderung mitgeteilt findet die kommende Wanderung am 17.03.2024 statt. Treffpunkt DGH Seershausen um 09:30 Uhr. \nDiesmal werden wir mit dem Auto Richtung Uetze starten. \n  \nDort werden wir eine Genusswanderung vom Parkplatz „Am Spreewaldsee“ an den Seen entlang\, weiterführend durch die Uetzer Herrschaft in den Friedwald zurück zum Spreewaldsee unternehmen. \nDiesmal wird es keinen gemütlichen Abschluss im DGH Seershausen geben. Stattdessen werden wir auf der Strecke ein Wanderpicknick in Selbstversorgung machen – jede/jeder also den Eigenbedarf bitte selbst mitbringen! \n  \nFür alle die direkt zum Parkplatz Spreewaldsee anreisen ist der Treffpunkt dort um 10:00 Uhr. Bei Anmeldung dies bitte für die bessere Planung angeben. \n  \nAnmeldungen bitte an Roman per SMS an 0173 974 4117; kein Whats-App!!!
URL:https://wir-sind-seershausen.de/veranstaltung/wanderung-der-wanderfreunde/
LOCATION:Dorfgemeinschaftshaus Seershausen\, Rietzer Weg 3a\, Seershausen\, 38536\, Deutschland
CATEGORIES:Allgemein,Kultur
ATTACH;FMTTYPE=image/png:https://s3.eu-central-2.wasabisys.com/wp-upload-seershausen/DorfvereinLogoGruen.png
END:VEVENT
END:VCALENDAR