BEGIN:VCALENDAR
VERSION:2.0
PRODID:-//Wir.sind.Seershausen - ECPv6.15.18//NONSGML v1.0//EN
CALSCALE:GREGORIAN
METHOD:PUBLISH
X-WR-CALNAME:Wir.sind.Seershausen
X-ORIGINAL-URL:https://wir-sind-seershausen.de
X-WR-CALDESC:Veranstaltungen für Wir.sind.Seershausen
REFRESH-INTERVAL;VALUE=DURATION:PT1H
X-Robots-Tag:noindex
X-PUBLISHED-TTL:PT1H
BEGIN:VTIMEZONE
TZID:Europe/Berlin
BEGIN:DAYLIGHT
TZOFFSETFROM:+0100
TZOFFSETTO:+0200
TZNAME:CEST
DTSTART:20230326T010000
END:DAYLIGHT
BEGIN:STANDARD
TZOFFSETFROM:+0200
TZOFFSETTO:+0100
TZNAME:CET
DTSTART:20231029T010000
END:STANDARD
BEGIN:DAYLIGHT
TZOFFSETFROM:+0100
TZOFFSETTO:+0200
TZNAME:CEST
DTSTART:20240331T010000
END:DAYLIGHT
BEGIN:STANDARD
TZOFFSETFROM:+0200
TZOFFSETTO:+0100
TZNAME:CET
DTSTART:20241027T010000
END:STANDARD
BEGIN:DAYLIGHT
TZOFFSETFROM:+0100
TZOFFSETTO:+0200
TZNAME:CEST
DTSTART:20250330T010000
END:DAYLIGHT
BEGIN:STANDARD
TZOFFSETFROM:+0200
TZOFFSETTO:+0100
TZNAME:CET
DTSTART:20251026T010000
END:STANDARD
END:VTIMEZONE
BEGIN:VEVENT
DTSTART;TZID=Europe/Berlin:20240302T180000
DTEND;TZID=Europe/Berlin:20240302T200000
DTSTAMP:20260422T234009
CREATED:20240205T114921Z
LAST-MODIFIED:20240205T115031Z
UID:126-1709402400-1709409600@wir-sind-seershausen.de
SUMMARY:Jahreshauptversammlung FFV TuS Seershausen/Ohof
DESCRIPTION:Der Fussball-Förderverein des TuS Seershausen/Ohof lädt zur Jahreshauptversammlung in das Sportheim Seershausen ein.
URL:https://wir-sind-seershausen.de/veranstaltung/jahreshauptversammlung-ffv-tus-seershausen-ohof/
LOCATION:Waldsportplatz\, Am Waldsportplatz 1\, Seershausen\, 38536\, Deutschland
CATEGORIES:Fussball-Förderverein,TuS Seershausen/Ohof
END:VEVENT
END:VCALENDAR